BEGIN:VCALENDAR
VERSION:2.0
PRODID:-//Labo Line - ECPv6.15.20//NONSGML v1.0//EN
CALSCALE:GREGORIAN
METHOD:PUBLISH
X-WR-CALNAME:Labo Line
X-ORIGINAL-URL:https://laboline.fi
X-WR-CALDESC:Tapahtumat Labo Line
REFRESH-INTERVAL;VALUE=DURATION:PT1H
X-Robots-Tag:noindex
X-PUBLISHED-TTL:PT1H
BEGIN:VTIMEZONE
TZID:Europe/Helsinki
BEGIN:DAYLIGHT
TZOFFSETFROM:+0200
TZOFFSETTO:+0300
TZNAME:EEST
DTSTART:20250330T010000
END:DAYLIGHT
BEGIN:STANDARD
TZOFFSETFROM:+0300
TZOFFSETTO:+0200
TZNAME:EET
DTSTART:20251026T010000
END:STANDARD
BEGIN:DAYLIGHT
TZOFFSETFROM:+0200
TZOFFSETTO:+0300
TZNAME:EEST
DTSTART:20260329T010000
END:DAYLIGHT
BEGIN:STANDARD
TZOFFSETFROM:+0300
TZOFFSETTO:+0200
TZNAME:EET
DTSTART:20261025T010000
END:STANDARD
BEGIN:DAYLIGHT
TZOFFSETFROM:+0200
TZOFFSETTO:+0300
TZNAME:EEST
DTSTART:20270328T010000
END:DAYLIGHT
BEGIN:STANDARD
TZOFFSETFROM:+0300
TZOFFSETTO:+0200
TZNAME:EET
DTSTART:20271031T010000
END:STANDARD
END:VTIMEZONE
BEGIN:VEVENT
DTSTART;TZID=Europe/Helsinki:20260421T100000
DTEND;TZID=Europe/Helsinki:20260421T110000
DTSTAMP:20260421T121830
CREATED:20260318T073423Z
LAST-MODIFIED:20260318T074032Z
UID:22714-1776765600-1776769200@laboline.fi
SUMMARY:Webinaari: STEAM STERILIZATION PROCESSES (in English)
DESCRIPTION:Content \n\nSpecific challenges when sterilizing complex instruments\n\nDate & Time \n21.4.2026 klo 10-11\n \nSpeaker: Joachim Metzing\, Product Management\, MesaGermany\, GKE \nPaikalla myös Tatu Korhonen\, Labo Line Oy\, vastamassa kysymyksiin suomeksi. \nREGISTRATION
URL:https://laboline.fi/tapahtuma/webinaari-steam-sterilization-processes-in-english/
LOCATION:Zoom
CATEGORIES:Webinaarit
ATTACH;FMTTYPE=image/png:https://laboline.fi/wp-content/uploads/2026/03/sterilointi-maski.png
ORGANIZER;CN="Labo Line Oy":MAILTO:info@laboline.fi
END:VEVENT
END:VCALENDAR